BEGIN:VCALENDAR
VERSION:2.0
PRODID:-//Partnership for the National Trails System - ECPv5.9.1//NONSGML v1.0//EN
CALSCALE:GREGORIAN
METHOD:PUBLISH
X-WR-CALNAME:Partnership for the National Trails System
X-ORIGINAL-URL:https://pnts.org/new
X-WR-CALDESC:Events for Partnership for the National Trails System
BEGIN:VTIMEZONE
TZID:America/Chicago
BEGIN:DAYLIGHT
TZOFFSETFROM:-0600
TZOFFSETTO:-0500
TZNAME:CDT
DTSTART:20210314T080000
END:DAYLIGHT
BEGIN:STANDARD
TZOFFSETFROM:-0500
TZOFFSETTO:-0600
TZNAME:CST
DTSTART:20211107T070000
END:STANDARD
END:VTIMEZONE
BEGIN:VEVENT
DTSTART;TZID=America/Chicago:20211101T140000
DTEND;TZID=America/Chicago:20211104T180000
DTSTAMP:20260422T182438
CREATED:20210903T144447Z
LAST-MODIFIED:20210903T144918Z
UID:15587-1635775200-1636048800@pnts.org
SUMMARY:2021 Virtual National Trails Workshop
DESCRIPTION:This year\, the National Trails Workshop will take place virtually from November 1st–4th\, and will bring together professionals\, volunteers\, partners\, and trail enthusiasts to learn\, discuss\, and work through timely issues for the National Trails System—trail land protection\, collaboration and engagement\, and strengthening organizations and partnerships. Sessions will provide examples\, information\, and opportunities to discuss creating and using shared narratives\, emerging land conservation policy\, advancing land conservation on trails\, working with Corps programs\, moving beyond land acknowledgments\, native experiences with collaboration\, and storytelling. \nFind out more and register now! 
URL:https://pnts.org/new/event/2021-virtual-national-trails-workshop-2/
LOCATION:Virtual
ORGANIZER;CN="Partnership%20for%20the%20National%20Trails%20System":MAILTO:admin@pnts.org
END:VEVENT
END:VCALENDAR